BEGIN:VCALENDAR
VERSION:2.0
METHOD:PUBLISH
PRODID:-//Accessible Web Design//My Calendar//http://www.joedolson.com//v3.3.16//EN';
BEGIN:VEVENT
UID:8-8
LOCATION:
SUMMARY:BAC - Limba și literatura română — proba E.a)
DTSTAMP:20220620T000000
ORGANIZER;CN=Ronline:MAILTO:ronlineu@ronline.us
DTSTART:20220620T000000
DTEND:20220620T010000
CATEGORIES:General
URL;VALUE=URI:
DESCRIPTION;ENCODING=QUOTED-PRINTABLE: 
END:VEVENT
END:VCALENDAR