BEGIN:VCALENDAR
VERSION:2.0
METHOD:PUBLISH
PRODID:-//Accessible Web Design//My Calendar//http://www.joedolson.com//v3.3.16//EN';
BEGIN:VEVENT
UID:9-9
LOCATION:
SUMMARY:BAC: Proba obligatorie a profilului — proba E.c)
DTSTAMP:20220621T000000
ORGANIZER;CN=Ronline:MAILTO:ronlineu@ronline.us
DTSTART:20220621T000000
DTEND:20220621T010000
CATEGORIES:General
URL;VALUE=URI:
DESCRIPTION;ENCODING=QUOTED-PRINTABLE: 
END:VEVENT
END:VCALENDAR