BEGIN:VCALENDAR
VERSION:2.0
METHOD:PUBLISH
PRODID:-//Accessible Web Design//My Calendar//http://www.joedolson.com//v3.3.16//EN';
BEGIN:VEVENT
UID:6-6
LOCATION:
SUMMARY:Examen național cls. VIII Limba și literatura română
DTSTAMP:20220614T000000
ORGANIZER;CN=Ronline:MAILTO:ronlineu@ronline.us
DTSTART:20220614T000000
DTEND:20220614T010000
CATEGORIES:General
URL;VALUE=URI:
DESCRIPTION;ENCODING=QUOTED-PRINTABLE: 
END:VEVENT
END:VCALENDAR