BEGIN:VCALENDAR
VERSION:2.0
METHOD:PUBLISH
PRODID:-//Accessible Web Design//My Calendar//http://www.joedolson.com//v3.3.16//EN';
BEGIN:VEVENT
UID:7-7
LOCATION:
SUMMARY:Examen național cls. VIII Matematică
DTSTAMP:20220616T000000
ORGANIZER;CN=Ronline:MAILTO:ronlineu@ronline.us
DTSTART:20220616T000000
DTEND:20220616T010000
CATEGORIES:General
URL;VALUE=URI:
DESCRIPTION;ENCODING=QUOTED-PRINTABLE: 
END:VEVENT
END:VCALENDAR